BEGIN:VCALENDAR
VERSION:2.0
PRODID:-//eventon.com NONSGML v1.0//EN
CALSCALE:GREGORIAN
METHOD:PUBLISH
BEGIN:VEVENT
UID:69e634437bd24
DTSTAMP:20260420T141219Z
DTSTART:20241112
DTEND:20241113
LOCATION:
SUMMARY:REFERENCE NO: RFQ 07 – 2024 2025 : REQUEST FOR QUOTATIONS: SUPPLY AND INSTALLATION OF AN UN UNINTERRUPTIBLE POWER SUPPLY(UPS) SYSTEM FOR THE EASTERN CAPE RURAL DEVELOPMENT AGENCY (ECRDA)\,  EAST LONDON OFFICE
DESCRIPTION:REFERENCE NO: RFQ 07 – 2024 2025 : REQUEST FOR QUOTATIONS: SU
 PPLY AND INSTALLATION OF AN UN UNINTERRUPTIBLE POWER SUPPLY(UPS) SYSTEM FOR
  THE EASTERN CAPE RURAL DEVELOPMENT AGENCY (ECRDA)\,  EAST LONDON OFFICE In
 troduction The ECRDA is a Provincial Public Entity as referred to in Schedu
 le 3C of the PFMA. The[..]\nhttps://ecrda.co.za/events/reference-no-rfq-07-
 2024-2025-request-for-quotations-supply-and-installation-of-an-un-uninterru
 ptible-power-supplyups-system-for-the-eastern-cape-rural-development-agency
 -ecrda-east-2/
URL:https://ecrda.co.za/events/reference-no-rfq-07-2024-2025-request-for-quotations-supply-and-installation-of-an-un-uninterruptible-power-supplyups-system-for-the-eastern-cape-rural-development-agency-ecrda-east-2/
END:VEVENT
END:VCALENDAR